BEGIN:VCALENDAR
VERSION:2.0
PRODID:-//Plone.org//NONSGML plone.app.event//EN
X-WR-TIMEZONE:America/Toronto
BEGIN:VEVENT
SUMMARY:Workshop on music information retrieval and cultural data
DTSTART;TZID=America/Montreal;VALUE=DATE-TIME:20101022T150000
DTEND;TZID=America/Montreal;VALUE=DATE-TIME:20101022T210000
DTSTAMP;VALUE=DATE-TIME:20260422T003100Z
UID:af27dc8dc30943969ddff5d9edb1a18a@project_zeoclients
CREATED;VALUE=DATE-TIME:20220210T175913Z
DESCRIPTION:This workshop is organized by CIRMMT Research Axis 3 (Musical 
 Information retrieval\, archiving and analysis). It will take place on Oct
 ober 22\, 2010\, in A832 (New Music Building).  This workshop is free and 
 open to all.  Registration is required. \n\n\n
LAST-MODIFIED;VALUE=DATE-TIME:20220211T185429Z
LOCATION:A832\, New Music Building\, 527 Sherbrooke St. West. 
URL:https://www.cirmmt.org/fr/events/workshops/meetings/music-info
END:VEVENT
BEGIN:VTIMEZONE
TZID:America/Montreal
X-LIC-LOCATION:America/Montreal
BEGIN:DAYLIGHT
DTSTART;VALUE=DATE-TIME:20100314T030000
TZNAME:EDT
TZOFFSETFROM:-0500
TZOFFSETTO:-0400
END:DAYLIGHT
END:VTIMEZONE
END:VCALENDAR
