BEGIN:VCALENDAR
VERSION:2.0
PRODID:-//Plone.org//NONSGML plone.app.event//EN
X-WR-TIMEZONE:America/Toronto
BEGIN:VEVENT
SUMMARY:Workshop on processing large amounts of musical information
DTSTART;TZID=America/Montreal;VALUE=DATE-TIME:20120217T133000
DTEND;TZID=America/Montreal;VALUE=DATE-TIME:20120217T200000
DTSTAMP;VALUE=DATE-TIME:20260421T220607Z
UID:efc1d1109a274e3c8bd2a37b4faaf223@project_zeoclients
CREATED;VALUE=DATE-TIME:20220210T175910Z
DESCRIPTION:This workshop is organized by CIRMMT Research Axis 3 (Musical 
 information retrieval\, archiving and analysis). It will take place on Feb
 ruary 17th\, in A832 (New Music Building). This workshop is free and open 
 to all. Registration is required. \n\n\n
LAST-MODIFIED;VALUE=DATE-TIME:20220211T185429Z
LOCATION:A832\, New Music Building\, 527 Sherbrooke St. West.
URL:https://www.cirmmt.org/fr/events/workshops/meetings/musical-info
END:VEVENT
BEGIN:VTIMEZONE
TZID:America/Montreal
X-LIC-LOCATION:America/Montreal
BEGIN:STANDARD
DTSTART;VALUE=DATE-TIME:20111106T010000
TZNAME:EST
TZOFFSETFROM:-0400
TZOFFSETTO:-0500
END:STANDARD
END:VTIMEZONE
END:VCALENDAR
