BEGIN:VCALENDAR
VERSION:2.0
PRODID:-//Plone.org//NONSGML plone.app.event//EN
X-WR-TIMEZONE:America/Toronto
BEGIN:VEVENT
SUMMARY:Workshop on optical music recognition
DTSTART;TZID=America/Montreal;VALUE=DATE-TIME:20110327T103000
DTEND;TZID=America/Montreal;VALUE=DATE-TIME:20110327T140000
DTSTAMP;VALUE=DATE-TIME:20260421T232223Z
UID:9e3c935a82eb47b2a76a66d1a9ae5210@project_zeoclients
CREATED;VALUE=DATE-TIME:20220210T175902Z
DESCRIPTION:This workshop is organized by CIRMMT Research Axis 3 (Musical 
 Information Retrieval\, Archiving\, and Analysis).  It will take place on 
 March 27\, 2011\, from 9:30am-1:00pm in A832 (New Music Building). This wo
 rkshop is free and open to all.  Registration is required. 
LAST-MODIFIED;VALUE=DATE-TIME:20220211T185428Z
LOCATION:A832\, New Music Building\, 527 Sherbrooke St. West. 
URL:https://www.cirmmt.org/fr/events/workshops/meetings/optical-music-reco
 gnition
END:VEVENT
BEGIN:VTIMEZONE
TZID:America/Montreal
X-LIC-LOCATION:America/Montreal
BEGIN:DAYLIGHT
DTSTART;VALUE=DATE-TIME:20110313T030000
TZNAME:EDT
TZOFFSETFROM:-0500
TZOFFSETTO:-0400
END:DAYLIGHT
END:VTIMEZONE
END:VCALENDAR
