BEGIN:VCALENDAR
VERSION:2.0
PRODID:-//Plone.org//NONSGML plone.app.event//EN
X-WR-TIMEZONE:America/Toronto
BEGIN:VEVENT
SUMMARY:Workshop on Performance with Electronics
DTSTART;TZID=America/Montreal;VALUE=DATE-TIME:20081004T110000
DTEND;TZID=America/Montreal;VALUE=DATE-TIME:20081004T190000
DTSTAMP;VALUE=DATE-TIME:20260422T013841Z
UID:f33c5382d7484c2ab5ac3f76da740bf1@project_zeoclients
CREATED;VALUE=DATE-TIME:20220210T175946Z
DESCRIPTION:This workshop is organized by CIRMMT Research Axis 6 (Expanded
  Musical Practice).  It will take place on October 4th\, 2008 at  McGill U
 niversity (A832\, New Music Building\, 527 Sherbrooke St. West).  Registra
 tion is free.
LAST-MODIFIED;VALUE=DATE-TIME:20220211T185431Z
LOCATION:A832\, New Music Building\, McGill University (enter via 555 Sher
 brooke St. West)
URL:https://www.cirmmt.org/fr/events/workshops/meetings/performance-electr
 onics
END:VEVENT
BEGIN:VTIMEZONE
TZID:America/Montreal
X-LIC-LOCATION:America/Montreal
BEGIN:DAYLIGHT
DTSTART;VALUE=DATE-TIME:20080309T030000
TZNAME:EDT
TZOFFSETFROM:-0500
TZOFFSETTO:-0400
END:DAYLIGHT
END:VTIMEZONE
END:VCALENDAR
