BEGIN:VCALENDAR
VERSION:2.0
PRODID:-//Plone.org//NONSGML plone.app.event//EN
X-WR-TIMEZONE:America/Toronto
BEGIN:VEVENT
SUMMARY:Workshop on performer-instrument interaction
DTSTART;TZID=America/Montreal;VALUE=DATE-TIME:20130322T103000
DTEND;TZID=America/Montreal;VALUE=DATE-TIME:20130322T143000
DTSTAMP;VALUE=DATE-TIME:20260421T205649Z
UID:7a2730dbfec54c91b204625de03c7cfe@project_zeoclients
CREATED;VALUE=DATE-TIME:20220210T175931Z
DESCRIPTION:This workshop is co-organized by CIRMMT Research Axis 1 (Sound
  modelling\, acoustics and signal processing) and Research Axis 2 (Musical
  gestures\, devices and motion capture). It will take place on March 22nd\
 , in A832 (New Music Building). This workshop is free and open to all. Reg
 istration is required. \n
LAST-MODIFIED;VALUE=DATE-TIME:20220211T185430Z
LOCATION:A832\, New Music Building\, 527 Sherbrooke St. West.
URL:https://www.cirmmt.org/fr/events/workshops/meetings/performer-instrume
 nt
END:VEVENT
BEGIN:VTIMEZONE
TZID:America/Montreal
X-LIC-LOCATION:America/Montreal
BEGIN:DAYLIGHT
DTSTART;VALUE=DATE-TIME:20130310T030000
TZNAME:EDT
TZOFFSETFROM:-0500
TZOFFSETTO:-0400
END:DAYLIGHT
END:VTIMEZONE
END:VCALENDAR
