BEGIN:VCALENDAR
VERSION:2.0
PRODID:-//Plone.org//NONSGML plone.app.event//EN
X-WR-TIMEZONE:America/Toronto
BEGIN:VEVENT
SUMMARY:Playing Electronics: Technique meets Technology\, a Long Look
DTSTART;TZID=America/Toronto;VALUE=DATE-TIME:20240214T180000
DTSTAMP;VALUE=DATE-TIME:20260421T094203Z
UID:47d7d9241af34d65a0d37f0ddb79f1c9@project_zeoclients
CONTACT:info[AT]cirmmt[DOT]org\, info@cirmmt.org
CREATED;VALUE=DATE-TIME:20240206T194635Z
DESCRIPTION:"Playing Electronics: Technique meets Technology\, a Long Look
 " est un séminaire donné par Mark Goldstein\, artiste\, inventeur et che
 rcheur.
LAST-MODIFIED;VALUE=DATE-TIME:20240206T194647Z
LOCATION:A-832\, 8éme étage\, Pavillon de musique Elizabeth Wirth\, 527 
 Sherbrooke O.
URL:https://www.cirmmt.org/fr/events/workshops/meetings/playing-electronic
 s-technique-meets-technology-a-long-look
END:VEVENT
BEGIN:VTIMEZONE
TZID:America/Toronto
X-LIC-LOCATION:America/Toronto
BEGIN:STANDARD
DTSTART;VALUE=DATE-TIME:20231105T010000
TZNAME:EST
TZOFFSETFROM:-0400
TZOFFSETTO:-0500
END:STANDARD
END:VTIMEZONE
END:VCALENDAR
