BEGIN:VCALENDAR
VERSION:2.0
PRODID:-//Plone.org//NONSGML plone.app.event//EN
X-WR-TIMEZONE:America/Toronto
BEGIN:VEVENT
SUMMARY:Workshop with Quasar saxophone quartet
DTSTART;TZID=America/Montreal;VALUE=DATE-TIME:20131024T183000
DTEND;TZID=America/Montreal;VALUE=DATE-TIME:20131024T213000
DTSTAMP;VALUE=DATE-TIME:20260421T192803Z
UID:da36f7c894334e7da50d5f194efcc42e@project_zeoclients
CREATED;VALUE=DATE-TIME:20220210T175858Z
DESCRIPTION:This workshop is organized by CIRMMT Research Axis 6 (Expanded
  musical practice). It will take place on Thursday\, October 24\, 2013\, i
 n A832 (New Music Building). This workshop is free and open to all. Regist
 ration is required. \n\n
LAST-MODIFIED;VALUE=DATE-TIME:20220211T185428Z
LOCATION:A832\, New Music Building\, 527 Sherbrooke St. West.
URL:https://www.cirmmt.org/fr/events/workshops/meetings/quasar
END:VEVENT
BEGIN:VTIMEZONE
TZID:America/Montreal
X-LIC-LOCATION:America/Montreal
BEGIN:DAYLIGHT
DTSTART;VALUE=DATE-TIME:20130310T030000
TZNAME:EDT
TZOFFSETFROM:-0500
TZOFFSETTO:-0400
END:DAYLIGHT
END:VTIMEZONE
END:VCALENDAR
