BEGIN:VCALENDAR
VERSION:2.0
PRODID:-//Plone.org//NONSGML plone.app.event//EN
X-WR-TIMEZONE:America/Toronto
BEGIN:VEVENT
SUMMARY:[ONLINE] Research Axis 3 (Cognition\, perception and movement) Gen
 eral Meeting 2020
DTSTART;TZID=America/Montreal;VALUE=DATE-TIME:20201021T170000
DTEND;TZID=America/Montreal;VALUE=DATE-TIME:20201021T180000
DTSTAMP;VALUE=DATE-TIME:20260421T132939Z
UID:fbbc32df75a14a48ae759f6b4c6dbde7@project_zeoclients
CREATED;VALUE=DATE-TIME:20210321T220056Z
DESCRIPTION:All CIRMMT researchers and student members interested in RA3 a
 ctivities are welcome to attend\, as are prospective student members who'd
  like to get involved in 2020-21. 
LAST-MODIFIED;VALUE=DATE-TIME:20210420T151019Z
LOCATION:Online (Zoom)
URL:https://www.cirmmt.org/fr/events/workshops/meetings/ra-3-general-meeti
 ng-2020
END:VEVENT
BEGIN:VTIMEZONE
TZID:America/Montreal
X-LIC-LOCATION:America/Montreal
BEGIN:DAYLIGHT
DTSTART;VALUE=DATE-TIME:20200308T030000
TZNAME:EDT
TZOFFSETFROM:-0500
TZOFFSETTO:-0400
END:DAYLIGHT
END:VTIMEZONE
END:VCALENDAR
