BEGIN:VCALENDAR
VERSION:2.0
PRODID:-//Plone.org//NONSGML plone.app.event//EN
X-WR-TIMEZONE:America/Toronto
BEGIN:VEVENT
SUMMARY:Axe de recherche 1 (Instruments\, appareils et systèmes) Réunion
  générale 2022
DTSTART;TZID=America/Toronto;VALUE=DATE-TIME:20221004T120000
DTEND;TZID=America/Toronto;VALUE=DATE-TIME:20221004T130000
DTSTAMP;VALUE=DATE-TIME:20260421T111531Z
UID:9c4f1c89affb4e81b4c6edc0460d84d1@project_zeoclients
CONTACT:info[AROBAS]cirmmt.org
CREATED;VALUE=DATE-TIME:20220921T160317Z
DESCRIPTION:Tou·te·s les chercheur·e·s et membres étudiant·e·s du C
 IRMMT intéressé·e·s par les activités de l'AR1 sont les bienvenu·e·
 s\, ainsi que les membres étudiant·e·s potentiel·le·s qui souhaitent 
 s'impliquer en 2022-2023.
LAST-MODIFIED;VALUE=DATE-TIME:20220921T160717Z
LOCATION:A-832 (8e étage)\, 527 Rue Sherbrooke O.
URL:https://www.cirmmt.org/fr/events/workshops/meetings/ra1-general-meetin
 g-2022
END:VEVENT
BEGIN:VTIMEZONE
TZID:America/Toronto
X-LIC-LOCATION:America/Toronto
BEGIN:DAYLIGHT
DTSTART;VALUE=DATE-TIME:20220313T030000
TZNAME:EDT
TZOFFSETFROM:-0500
TZOFFSETTO:-0400
END:DAYLIGHT
END:VTIMEZONE
END:VCALENDAR
