BEGIN:VCALENDAR
VERSION:2.0
PRODID:-//Plone.org//NONSGML plone.app.event//EN
X-WR-TIMEZONE:America/Toronto
BEGIN:VEVENT
SUMMARY:Axe de recherche 1 (Instruments\, appareils et systèmes) Réunion
  générale 2023
DTSTART;TZID=America/Toronto;VALUE=DATE-TIME:20231011T140000
DTEND;TZID=America/Toronto;VALUE=DATE-TIME:20231011T150000
DTSTAMP;VALUE=DATE-TIME:20260421T094318Z
UID:fcec0a97fa224d269511d93582f21eb5@project_zeoclients
CONTACT:RA1 Student Coordiantor\, xinyi.zhang.1@ens.etsmtl.ca
CREATED;VALUE=DATE-TIME:20231006T175632Z
DESCRIPTION:Tou·te·s les chercheur·e·s et membres étudiant·e·s du C
 IRMMT intéressé·e·s par les activités de l'AR1 sont les bienvenu·e·
 s\, ainsi que les membres étudiant·e·s potentiel·le·s qui souhaitent 
 s'impliquer en 2023-2024.
LAST-MODIFIED;VALUE=DATE-TIME:20231006T180257Z
URL:https://www.cirmmt.org/fr/events/workshops/meetings/ra1_meeting-oct_23
END:VEVENT
BEGIN:VTIMEZONE
TZID:America/Toronto
X-LIC-LOCATION:America/Toronto
BEGIN:DAYLIGHT
DTSTART;VALUE=DATE-TIME:20230312T030000
TZNAME:EDT
TZOFFSETFROM:-0500
TZOFFSETTO:-0400
END:DAYLIGHT
END:VTIMEZONE
END:VCALENDAR
