BEGIN:VCALENDAR
VERSION:2.0
PRODID:-//Plone.org//NONSGML plone.app.event//EN
X-WR-TIMEZONE:America/Toronto
BEGIN:VEVENT
SUMMARY:Musical Gestures\, Devices and Motion Capture Axis Meeting
DTSTART;TZID=America/Montreal;VALUE=DATE-TIME:20120515T140000
DTEND;TZID=America/Montreal;VALUE=DATE-TIME:20120515T160000
DTSTAMP;VALUE=DATE-TIME:20260421T220815Z
UID:8c5a9521dc97435eb4c9e3e8739884c2@project_zeoclients
CREATED;VALUE=DATE-TIME:20210321T220059Z
DESCRIPTION:Research Axis 2 will hold a general meeting on Tuesday\, May 1
 5th\, from 2:00pm.
LAST-MODIFIED;VALUE=DATE-TIME:20210420T151020Z
LOCATION:A807 (CIRMMT Conference Room)\, New Music Building\, 527 Sherbroo
 ke St. West.
URL:https://www.cirmmt.org/fr/events/workshops/meetings/ra2-20120515
END:VEVENT
BEGIN:VTIMEZONE
TZID:America/Montreal
X-LIC-LOCATION:America/Montreal
BEGIN:DAYLIGHT
DTSTART;VALUE=DATE-TIME:20120311T030000
TZNAME:EDT
TZOFFSETFROM:-0500
TZOFFSETTO:-0400
END:DAYLIGHT
END:VTIMEZONE
END:VCALENDAR
