BEGIN:VCALENDAR
VERSION:2.0
PRODID:-//Plone.org//NONSGML plone.app.event//EN
X-WR-TIMEZONE:America/Toronto
BEGIN:VEVENT
SUMMARY:AR3 réunion générale 2022
DTSTART;TZID=America/Toronto;VALUE=DATE-TIME:20220419T160000
DTEND;TZID=America/Toronto;VALUE=DATE-TIME:20220419T170000
DTSTAMP;VALUE=DATE-TIME:20260421T123444Z
UID:8316d98c4c0240f088d1479a2ce7d450@project_zeoclients
CONTACT:cirmmt.info [AROBAS] mcgill.ca
CREATED;VALUE=DATE-TIME:20220407T160835Z
DESCRIPTION:Réunion générale de l'axe de recherche 3 du CIRMMT (Cogniti
 on\, Perception et Mouvement)
LAST-MODIFIED;VALUE=DATE-TIME:20260326T215331Z
LOCATION:En ligne (Lien zoom ci-dessous)
URL:https://www.cirmmt.org/fr/events/workshops/meetings/ra3-general-meetin
 g-2022
END:VEVENT
BEGIN:VTIMEZONE
TZID:America/Toronto
X-LIC-LOCATION:America/Toronto
BEGIN:DAYLIGHT
DTSTART;VALUE=DATE-TIME:20220313T030000
TZNAME:EDT
TZOFFSETFROM:-0500
TZOFFSETTO:-0400
END:DAYLIGHT
END:VTIMEZONE
END:VCALENDAR
