BEGIN:VCALENDAR
VERSION:2.0
PRODID:-//Plone.org//NONSGML plone.app.event//EN
X-WR-TIMEZONE:America/Toronto
BEGIN:VEVENT
SUMMARY:Axe de recherche 3 (Cognition\, perception et mouvement) Réunion 
 générale 2025
DTSTART;TZID=America/Toronto;VALUE=DATE-TIME:20250527T173000
DTEND;TZID=America/Toronto;VALUE=DATE-TIME:20250527T190000
DTSTAMP;VALUE=DATE-TIME:20260421T111240Z
UID:44a1bd44b520487ca4b6eef6aa59729b@project_zeoclients
CONTACT:info [AROBASE] cirmmt [POINT] org
CREATED;VALUE=DATE-TIME:20250523T190929Z
DESCRIPTION:Tous·tes les chercheur·rices et membres étudiant·es du CIR
 MMT intéressé·es par les activités du AR3 sont les bienvenu·es\, de m
 ême que les futurs membres étudiant·es qui souhaiteraient s'impliquer e
 n 2025-2026.
LAST-MODIFIED;VALUE=DATE-TIME:20250523T195503Z
LOCATION:A832 (8 étage)\, Pavillon de musique Elizabeth Schulich\, 527\, 
 Sherbrooke O
URL:https://www.cirmmt.org/fr/events/workshops/meetings/ra3-gm-2025
END:VEVENT
BEGIN:VTIMEZONE
TZID:America/Toronto
X-LIC-LOCATION:America/Toronto
BEGIN:DAYLIGHT
DTSTART;VALUE=DATE-TIME:20250309T030000
TZNAME:EDT
TZOFFSETFROM:-0500
TZOFFSETTO:-0400
END:DAYLIGHT
END:VTIMEZONE
END:VCALENDAR
