BEGIN:VCALENDAR
VERSION:2.0
PRODID:-//Plone.org//NONSGML plone.app.event//EN
X-WR-TIMEZONE:America/Toronto
BEGIN:VEVENT
SUMMARY:Cantus Ultimus Workshop: Building the ideal digital music library 
 for plainchant
DTSTART;TZID=America/Montreal;VALUE=DATE-TIME:20120908T120000
DTEND;TZID=America/Montreal;VALUE=DATE-TIME:20120908T163000
DTSTAMP;VALUE=DATE-TIME:20260421T220612Z
UID:1c64dcde9bc34969bcfcfee223548765@project_zeoclients
CREATED;VALUE=DATE-TIME:20220210T175939Z
DESCRIPTION:This workshop is organized by CIRMMT Research Axis 3 (Musical 
 information retrieval\, archiving and motion capture). It will take place 
 on September 8th\, in A832 (New Music Building). This workshop is free and
  open to all. Registration is required. \n\n\n
LAST-MODIFIED;VALUE=DATE-TIME:20220211T185431Z
LOCATION:A832\, New Music Building\, 527 Sherbrooke St. West.
URL:https://www.cirmmt.org/fr/events/workshops/meetings/ra3120908
END:VEVENT
BEGIN:VTIMEZONE
TZID:America/Montreal
X-LIC-LOCATION:America/Montreal
BEGIN:DAYLIGHT
DTSTART;VALUE=DATE-TIME:20120311T030000
TZNAME:EDT
TZOFFSETFROM:-0500
TZOFFSETTO:-0400
END:DAYLIGHT
END:VTIMEZONE
END:VCALENDAR
