BEGIN:VCALENDAR
VERSION:2.0
PRODID:-//Plone.org//NONSGML plone.app.event//EN
X-WR-TIMEZONE:America/Toronto
BEGIN:VEVENT
SUMMARY:Research Axis 3 (Cognition\, perception\, and movement) General Me
 eting 2019
DTSTART;TZID=America/Montreal;VALUE=DATE-TIME:20191107T173000
DTEND;TZID=America/Montreal;VALUE=DATE-TIME:20191107T183000
DTSTAMP;VALUE=DATE-TIME:20260421T134404Z
UID:3ecf26d5a58b4c39acadab601991ed22@project_zeoclients
CREATED;VALUE=DATE-TIME:20210321T220101Z
DESCRIPTION:All CIRMMT researchers and student members interested in RA3 a
 ctivities are welcome to attend\, as are prospective student members who'd
  like to get involved in 2019-20. 
LAST-MODIFIED;VALUE=DATE-TIME:20210420T151021Z
LOCATION:A832\, Elizabeth Wirth Music Building\, 527 Sherbrooke St W
URL:https://www.cirmmt.org/fr/events/workshops/meetings/ra3meeting-2019110
 7
END:VEVENT
BEGIN:VTIMEZONE
TZID:America/Montreal
X-LIC-LOCATION:America/Montreal
BEGIN:STANDARD
DTSTART;VALUE=DATE-TIME:20191103T010000
TZNAME:EST
TZOFFSETFROM:-0400
TZOFFSETTO:-0500
END:STANDARD
END:VTIMEZONE
END:VCALENDAR
