BEGIN:VCALENDAR
VERSION:2.0
PRODID:-//Plone.org//NONSGML plone.app.event//EN
X-WR-TIMEZONE:America/Toronto
BEGIN:VEVENT
SUMMARY:Assemblée générale du RA3 2023
DTSTART;TZID=America/Toronto;VALUE=DATE-TIME:20230525T150000
DTEND;TZID=America/Toronto;VALUE=DATE-TIME:20230525T160000
DTSTAMP;VALUE=DATE-TIME:20260421T124158Z
UID:b6a7c0beef1948229c93ce2f0de3ef0a@project_zeoclients
CREATED;VALUE=DATE-TIME:20230519T184618Z
LAST-MODIFIED;VALUE=DATE-TIME:20230519T203626Z
LOCATION:Wirth Opera Studio\, 527 rue Sherbrooke O\, Montreal\, QC H3A 1E3
URL:https://www.cirmmt.org/fr/events/workshops/meetings/ra3meeting23
END:VEVENT
BEGIN:VTIMEZONE
TZID:America/Toronto
X-LIC-LOCATION:America/Toronto
BEGIN:DAYLIGHT
DTSTART;VALUE=DATE-TIME:20230312T030000
TZNAME:EDT
TZOFFSETFROM:-0500
TZOFFSETTO:-0400
END:DAYLIGHT
END:VTIMEZONE
END:VCALENDAR
