BEGIN:VCALENDAR
VERSION:2.0
PRODID:-//Plone.org//NONSGML plone.app.event//EN
X-WR-TIMEZONE:America/Toronto
BEGIN:VEVENT
SUMMARY:Axe de recherche 4 (Pratique musicale élargie) Réunion général
 e 2024
DTSTART;TZID=America/Toronto;VALUE=DATE-TIME:20241206T153000
DTEND;TZID=America/Toronto;VALUE=DATE-TIME:20241206T170000
DTSTAMP;VALUE=DATE-TIME:20260421T121838Z
UID:1104201ed16144f5bb9b75a8abf1fd6f@project_zeoclients
CONTACT:info[AROBASE]cirmmt[POINT]org
CREATED;VALUE=DATE-TIME:20241126T154144Z
DESCRIPTION:Tou·te·s les chercheur·e·s et membres étudiant·e·s du C
 IRMMT intéressé·e·s par les activités du AR4 sont les bienvenu·e·s\
 , ainsi que les membres étudiant·e·s potentiel·le·s qui souhaitent s'
 impliquer en 2024–2025.
LAST-MODIFIED;VALUE=DATE-TIME:20241126T161142Z
LOCATION:B-187 (rez-de-chaussée)\, Pavillon de la faculté de musique\, U
 niversité de Montréal\, 200 avenue Vincent-d’Indy
URL:https://www.cirmmt.org/fr/events/workshops/meetings/ra4-general-2024
END:VEVENT
BEGIN:VTIMEZONE
TZID:America/Toronto
X-LIC-LOCATION:America/Toronto
BEGIN:STANDARD
DTSTART;VALUE=DATE-TIME:20241103T010000
TZNAME:EST
TZOFFSETFROM:-0400
TZOFFSETTO:-0500
END:STANDARD
END:VTIMEZONE
END:VCALENDAR
