BEGIN:VCALENDAR
VERSION:2.0
PRODID:-//Plone.org//NONSGML plone.app.event//EN
X-WR-TIMEZONE:America/Toronto
BEGIN:VEVENT
SUMMARY:AR4 réunion générale 2025
DTSTART;TZID=America/Toronto;VALUE=DATE-TIME:20251114T100000
DTEND;TZID=America/Toronto;VALUE=DATE-TIME:20251114T113000
DTSTAMP;VALUE=DATE-TIME:20260421T081725Z
UID:0058c4de646e4b139e00c94c132557c6@project_zeoclients
CONTACT:info [AROBASE] cirmmt [POINT] org
CREATED;VALUE=DATE-TIME:20251112T154707Z
DESCRIPTION:Réunion générale de l'axe de recherche 4 du CIRMMT (Pratiqu
 e musicale élargie)
LAST-MODIFIED;VALUE=DATE-TIME:20251112T160033Z
LOCATION:A832 (8 étage)\, pavillon de musique Elizabeth Schulich\, 527\, 
 Sherbrooke O
URL:https://www.cirmmt.org/fr/events/workshops/meetings/ra4-general-2025-2
 6
END:VEVENT
BEGIN:VTIMEZONE
TZID:America/Toronto
X-LIC-LOCATION:America/Toronto
BEGIN:STANDARD
DTSTART;VALUE=DATE-TIME:20251102T010000
TZNAME:EST
TZOFFSETFROM:-0400
TZOFFSETTO:-0500
END:STANDARD
END:VTIMEZONE
END:VCALENDAR
