BEGIN:VCALENDAR
VERSION:2.0
PRODID:-//Plone.org//NONSGML plone.app.event//EN
X-WR-TIMEZONE:America/Toronto
BEGIN:VEVENT
SUMMARY:Axe de recherche 4 : Pratique musicale élargie - Réunion génér
 ale 2022
DTSTART;TZID=America/Toronto;VALUE=DATE-TIME:20220914T173000
DTEND;TZID=America/Toronto;VALUE=DATE-TIME:20220914T183000
DTSTAMP;VALUE=DATE-TIME:20260421T123444Z
UID:e25bc36d24624ffb9a69f3e170dad4a4@project_zeoclients
CONTACT:info[AT]cirmmt.org
CREATED;VALUE=DATE-TIME:20220912T154935Z
DESCRIPTION:Tou·te·s les chercheur·e·s et membres étudiant·e·s du C
 IRMMT intéressé·e·s par les activités du RA4 sont les bienvenu·e·s\
 , ainsi que les membres étudiant·e·s potentiel·le·s qui souhaitent s'
 impliquer en 2022-2023.
LAST-MODIFIED;VALUE=DATE-TIME:20220912T155429Z
LOCATION:A-832\, 527 rue Sherbrook O.
URL:https://www.cirmmt.org/fr/events/workshops/meetings/ra4-general-meetin
 g-2022
END:VEVENT
BEGIN:VTIMEZONE
TZID:America/Toronto
X-LIC-LOCATION:America/Toronto
BEGIN:DAYLIGHT
DTSTART;VALUE=DATE-TIME:20220313T030000
TZNAME:EDT
TZOFFSETFROM:-0500
TZOFFSETTO:-0400
END:DAYLIGHT
END:VTIMEZONE
END:VCALENDAR
