BEGIN:VCALENDAR
VERSION:2.0
PRODID:-//Plone.org//NONSGML plone.app.event//EN
X-WR-TIMEZONE:America/Toronto
BEGIN:VEVENT
SUMMARY:Assemblée générale de l'axe de recherche 2
DTSTART;TZID=America/Toronto;VALUE=DATE-TIME:20240123T120000
DTEND;TZID=America/Toronto;VALUE=DATE-TIME:20240123T133000
DTSTAMP;VALUE=DATE-TIME:20260421T094255Z
UID:363f8dcefe304804aa02a39e5257bacc@project_zeoclients
CONTACT:Cory McKay\, cory.mckay@mail.mcgill.ca
CREATED;VALUE=DATE-TIME:20240116T162735Z
DESCRIPTION:Tou·t·e·s les chercheur·euse·s et membres étudiant·e·s
  du CIRMMT intéressés par les activités du AR2 (Recherche sur l'informa
 tion musicale) sont les bienvenus\, de même que les futurs membres étudi
 ant·e·s qui souhaiteraient s'impliquer en 2023-2024.
LAST-MODIFIED;VALUE=DATE-TIME:20240116T163120Z
LOCATION:A-807 (8ème étage)\, CIRMMT\, Pavillon de la musique Elizabeth 
 Wirth\, 527 rue Sherbrooke O.
URL:https://www.cirmmt.org/fr/events/workshops/meetings/ra_2-meeting-jan24
END:VEVENT
BEGIN:VTIMEZONE
TZID:America/Toronto
X-LIC-LOCATION:America/Toronto
BEGIN:STANDARD
DTSTART;VALUE=DATE-TIME:20231105T010000
TZNAME:EST
TZOFFSETFROM:-0400
TZOFFSETTO:-0500
END:STANDARD
END:VTIMEZONE
END:VCALENDAR
