BEGIN:VCALENDAR
VERSION:2.0
PRODID:-//Plone.org//NONSGML plone.app.event//EN
X-WR-TIMEZONE:America/Toronto
BEGIN:VEVENT
SUMMARY:Research Axis 1 (Instruments\, devices\, and systems) General Meet
 ing
DTSTART;TZID=America/Montreal;VALUE=DATE-TIME:20170419T103000
DTEND;TZID=America/Montreal;VALUE=DATE-TIME:20170419T120000
DTSTAMP;VALUE=DATE-TIME:20260421T164825Z
UID:0442a54fba624e1dbb8d47216fa09f83@project_zeoclients
CREATED;VALUE=DATE-TIME:20210321T220102Z
LAST-MODIFIED;VALUE=DATE-TIME:20210420T151021Z
LOCATION:A832\, Elizabeth Wirth Music Building\, 527 Sherbrooke St W
URL:https://www.cirmmt.org/fr/events/workshops/meetings/research-axis-1-in
 struments-devices-and-systems-general-meeting
END:VEVENT
BEGIN:VTIMEZONE
TZID:America/Montreal
X-LIC-LOCATION:America/Montreal
BEGIN:DAYLIGHT
DTSTART;VALUE=DATE-TIME:20170312T030000
TZNAME:EDT
TZOFFSETFROM:-0500
TZOFFSETTO:-0400
END:DAYLIGHT
END:VTIMEZONE
END:VCALENDAR
