BEGIN:VCALENDAR
VERSION:2.0
PRODID:-//Plone.org//NONSGML plone.app.event//EN
X-WR-TIMEZONE:America/Toronto
BEGIN:VEVENT
SUMMARY:Workshop on sensory experience\, language and knowledge
DTSTART;TZID=America/Montreal;VALUE=DATE-TIME:20120924T100000
DTEND;TZID=America/Montreal;VALUE=DATE-TIME:20120924T170000
DTSTAMP;VALUE=DATE-TIME:20260421T220612Z
UID:b86bb7d310194ccfaac561305932c5e7@project_zeoclients
CREATED;VALUE=DATE-TIME:20220210T175903Z
DESCRIPTION:This workshop is organized by CIRMMT Research Axis 4 (Immersiv
 e multimodal systems). It will take place on September 24th\, in A412 (New
  Music Building) with Danièle Dubois\, Emeritus researcher\, CNRS\, LAM\,
  Paris. This workshop is free and open to all. Registration is required. \
 n\n
LAST-MODIFIED;VALUE=DATE-TIME:20220211T185428Z
LOCATION:A412 (Library Seminar Room)\, New Music Building\, 527 Sherbrooke
  St. West.
URL:https://www.cirmmt.org/fr/events/workshops/meetings/sensory-experience
END:VEVENT
BEGIN:VTIMEZONE
TZID:America/Montreal
X-LIC-LOCATION:America/Montreal
BEGIN:DAYLIGHT
DTSTART;VALUE=DATE-TIME:20120311T030000
TZNAME:EDT
TZOFFSETFROM:-0500
TZOFFSETTO:-0400
END:DAYLIGHT
END:VTIMEZONE
END:VCALENDAR
