BEGIN:VCALENDAR
VERSION:2.0
PRODID:-//Plone.org//NONSGML plone.app.event//EN
X-WR-TIMEZONE:America/Toronto
BEGIN:VEVENT
SUMMARY:Workshop on SIMSSA (Single Interface for Music Score Searching and
  Analysis) III
DTSTART;TZID=America/Montreal;VALUE=DATE-TIME:20130907T110000
DTEND;TZID=America/Montreal;VALUE=DATE-TIME:20130907T170000
DTSTAMP;VALUE=DATE-TIME:20260421T204032Z
UID:699634dadc6c42f599e6230251583c59@project_zeoclients
CREATED;VALUE=DATE-TIME:20220210T175850Z
DESCRIPTION:This workshop is organized by CIRMMT Research Axis 3 (Musical 
 information retrieval\, archiving and analysis). It will take place on Sat
 urday\, September 7\, 2013\, in A832 (New Music Building). This workshop i
 s free and open to all. Registration is required. \n\n\n
LAST-MODIFIED;VALUE=DATE-TIME:20220211T185428Z
LOCATION:A832\, New Music Building\, 527 Sherbrooke St. West.
URL:https://www.cirmmt.org/fr/events/workshops/meetings/simssa0913
END:VEVENT
BEGIN:VTIMEZONE
TZID:America/Montreal
X-LIC-LOCATION:America/Montreal
BEGIN:DAYLIGHT
DTSTART;VALUE=DATE-TIME:20130310T030000
TZNAME:EDT
TZOFFSETFROM:-0500
TZOFFSETTO:-0400
END:DAYLIGHT
END:VTIMEZONE
END:VCALENDAR
