BEGIN:VCALENDAR
VERSION:2.0
PRODID:-//Plone.org//NONSGML plone.app.event//EN
X-WR-TIMEZONE:America/Toronto
BEGIN:VEVENT
SUMMARY:Workshop on SIMSSA (Single Interface for Music Score Searching and
  Analysis) IV
DTSTART;TZID=America/Montreal;VALUE=DATE-TIME:20140929T100000
DTEND;TZID=America/Montreal;VALUE=DATE-TIME:20140929T150000
DTSTAMP;VALUE=DATE-TIME:20260421T191852Z
UID:70c25e34c11543098a911323416b5177@project_zeoclients
CREATED;VALUE=DATE-TIME:20220210T175852Z
DESCRIPTION:This workshop is organized by CIRMMT Research Axis 2 (Music in
 formation research). It will take place on Monday\, September 29\, 2014\, 
 in A832 (New Music Building). This workshop is free and open to all. Regis
 tration is required. \n\n\n
LAST-MODIFIED;VALUE=DATE-TIME:20220211T185428Z
LOCATION:A832\, New Music Building\, 527 Sherbrooke St. West.
URL:https://www.cirmmt.org/fr/events/workshops/meetings/simssa0914
END:VEVENT
BEGIN:VTIMEZONE
TZID:America/Montreal
X-LIC-LOCATION:America/Montreal
BEGIN:DAYLIGHT
DTSTART;VALUE=DATE-TIME:20140309T030000
TZNAME:EDT
TZOFFSETFROM:-0500
TZOFFSETTO:-0400
END:DAYLIGHT
END:VTIMEZONE
END:VCALENDAR
