BEGIN:VCALENDAR
VERSION:2.0
PRODID:-//Plone.org//NONSGML plone.app.event//EN
X-WR-TIMEZONE:America/Toronto
BEGIN:VEVENT
SUMMARY:Workshop on Listening Through Time
DTSTART;TZID=America/Montreal;VALUE=DATE-TIME:20091031T200000
DTEND;TZID=America/Montreal;VALUE=DATE-TIME:20091031T230000
DTSTAMP;VALUE=DATE-TIME:20260422T015712Z
UID:bb25fba3b9b64341ba99e3cf4160c4eb@project_zeoclients
CREATED;VALUE=DATE-TIME:20220210T175948Z
DESCRIPTION:This workshop is cosponsored by the Society for Music Theory a
 nd CIRMMT Research Axis 5. It will involve a real-time music listening exp
 eriment with live music followed by a presentation of results from pilot e
 xperiments using the new CIRMMT audience response system and a panel discu
 ssion of SMT members.  It will take place in Tanna Schulich Hall\, McGill 
 University.  Registration is required.  Participants in the experiment wil
 l receive $10 in compensation.
LAST-MODIFIED;VALUE=DATE-TIME:20220211T185431Z
LOCATION:Tanna Schulich Hall\, 527 Sherbrooke St. West
URL:https://www.cirmmt.org/fr/events/workshops/meetings/smt
END:VEVENT
BEGIN:VTIMEZONE
TZID:America/Montreal
X-LIC-LOCATION:America/Montreal
BEGIN:DAYLIGHT
DTSTART;VALUE=DATE-TIME:20090308T030000
TZNAME:EDT
TZOFFSETFROM:-0500
TZOFFSETTO:-0400
END:DAYLIGHT
END:VTIMEZONE
END:VCALENDAR
