BEGIN:VCALENDAR
VERSION:2.0
PRODID:-//Plone.org//NONSGML plone.app.event//EN
X-WR-TIMEZONE:America/Toronto
BEGIN:VEVENT
SUMMARY:Workshop on string instrument measurements
DTSTART;TZID=America/Montreal;VALUE=DATE-TIME:20120322T130000
DTEND;TZID=America/Montreal;VALUE=DATE-TIME:20120322T190000
DTSTAMP;VALUE=DATE-TIME:20260421T220550Z
UID:135d1aadfb454099aef3102e136badc2@project_zeoclients
CREATED;VALUE=DATE-TIME:20220210T175944Z
DESCRIPTION:This workshop is organized by CIRMMT Research Axis 1 (Sound mo
 delling\, acoustics and signal processing). It will take place on March 22
 nd\, in A832 (New Music Building). This workshop is free and open to all. 
 Registration is required. \n\n\n
LAST-MODIFIED;VALUE=DATE-TIME:20220211T185431Z
LOCATION:A832\, New Music Building\, 527 Sherbrooke St. West.
URL:https://www.cirmmt.org/fr/events/workshops/meetings/string-measurement
 s
END:VEVENT
BEGIN:VTIMEZONE
TZID:America/Montreal
X-LIC-LOCATION:America/Montreal
BEGIN:DAYLIGHT
DTSTART;VALUE=DATE-TIME:20120311T030000
TZNAME:EDT
TZOFFSETFROM:-0500
TZOFFSETTO:-0400
END:DAYLIGHT
END:VTIMEZONE
END:VCALENDAR
