BEGIN:VCALENDAR
VERSION:2.0
PRODID:-//Plone.org//NONSGML plone.app.event//EN
X-WR-TIMEZONE:America/Toronto
BEGIN:VEVENT
SUMMARY:CIRMMT Student General Meeting
DTSTART;TZID=America/Montreal;VALUE=DATE-TIME:20171004T173000
DTEND;TZID=America/Montreal;VALUE=DATE-TIME:20171004T220000
DTSTAMP;VALUE=DATE-TIME:20260421T162839Z
UID:39b4ae6976164ad0836bf973c9b2ca98@project_zeoclients
CREATED;VALUE=DATE-TIME:20210321T220102Z
LAST-MODIFIED;VALUE=DATE-TIME:20210420T151022Z
LOCATION:A832\, Elizabeth Wirth Music Building\, 527 Sherbrooke St W
URL:https://www.cirmmt.org/fr/events/workshops/meetings/student-meeting
END:VEVENT
BEGIN:VTIMEZONE
TZID:America/Montreal
X-LIC-LOCATION:America/Montreal
BEGIN:DAYLIGHT
DTSTART;VALUE=DATE-TIME:20170312T030000
TZNAME:EDT
TZOFFSETFROM:-0500
TZOFFSETTO:-0400
END:DAYLIGHT
END:VTIMEZONE
END:VCALENDAR
