BEGIN:VCALENDAR
VERSION:2.0
PRODID:-//Plone.org//NONSGML plone.app.event//EN
X-WR-TIMEZONE:America/Toronto
BEGIN:VEVENT
SUMMARY:[ONLINE] CIRMMT Student General Meeting 2020
DTSTART;TZID=America/Montreal;VALUE=DATE-TIME:20200924T170000
DTEND;TZID=America/Montreal;VALUE=DATE-TIME:20200924T190000
DTSTAMP;VALUE=DATE-TIME:20260421T132542Z
UID:37da036e06fa4b9c945790c637f5c713@project_zeoclients
CREATED;VALUE=DATE-TIME:20210321T220103Z
DESCRIPTION:This meeting welcomes new student members as well as those who
  want a refresher on the facilities and resources available at CIRMMT.
LAST-MODIFIED;VALUE=DATE-TIME:20210420T151022Z
LOCATION:Online - WebEx
URL:https://www.cirmmt.org/fr/events/workshops/meetings/student-meeting202
 0
END:VEVENT
BEGIN:VTIMEZONE
TZID:America/Montreal
X-LIC-LOCATION:America/Montreal
BEGIN:DAYLIGHT
DTSTART;VALUE=DATE-TIME:20200308T030000
TZNAME:EDT
TZOFFSETFROM:-0500
TZOFFSETTO:-0400
END:DAYLIGHT
END:VTIMEZONE
END:VCALENDAR
