BEGIN:VCALENDAR
VERSION:2.0
PRODID:-//Plone.org//NONSGML plone.app.event//EN
X-WR-TIMEZONE:America/Toronto
BEGIN:VEVENT
SUMMARY:Workshop on Voice: Acoustics\, Physiology and Pedagogy (with Johan
  Sundberg)
DTSTART;TZID=America/Montreal;VALUE=DATE-TIME:20090121T083000
DTEND;TZID=America/Montreal;VALUE=DATE-TIME:20090121T161500
DTSTAMP;VALUE=DATE-TIME:20260422T014056Z
UID:24a6b97db82d45a0a7a1ec76435cfa62@project_zeoclients
CREATED;VALUE=DATE-TIME:20220210T175949Z
DESCRIPTION:This workshop is jointly organized by CIRMMT Research Axes 1 (
 Sound Modeling\, Acoustics and Signal Processing) and 2 (Musical Gestures\
 , Devices and Motion Capture). It will take place on January 21st\, 2009 a
 t McGill University (A832\, New Music Building\, 527 Sherbrooke St. West).
  Registration is free.
LAST-MODIFIED;VALUE=DATE-TIME:20220211T185431Z
LOCATION:A832\, New Music Building\, McGill University (enter via 555 Sher
 brooke St. West)
URL:https://www.cirmmt.org/fr/events/workshops/meetings/sundberg
END:VEVENT
BEGIN:VTIMEZONE
TZID:America/Montreal
X-LIC-LOCATION:America/Montreal
BEGIN:STANDARD
DTSTART;VALUE=DATE-TIME:20081102T010000
TZNAME:EST
TZOFFSETFROM:-0400
TZOFFSETTO:-0500
END:STANDARD
END:VTIMEZONE
END:VCALENDAR
