BEGIN:VCALENDAR
VERSION:2.0
PRODID:-//Plone.org//NONSGML plone.app.event//EN
X-WR-TIMEZONE:America/Toronto
BEGIN:VEVENT
SUMMARY:Workshop on symbolic music processing\, semantic audio\, and music
  information retrieval
DTSTART;TZID=America/Montreal;VALUE=DATE-TIME:20131115T090000
DTEND;TZID=America/Montreal;VALUE=DATE-TIME:20131115T124000
DTSTAMP;VALUE=DATE-TIME:20260421T192013Z
UID:934d7d57802845dfaa7bd7585a8ebe5d@project_zeoclients
CREATED;VALUE=DATE-TIME:20220210T175852Z
DESCRIPTION:This workshop is organized by CIRMMT Research Axis 3 (Musical 
 information retrieval\, archiving and analysis). It will take place on Fri
 day\, November 15\, 2013\, in A832 (New Music Building). This workshop is 
 free and open to all. Registration is required. \n\n
LAST-MODIFIED;VALUE=DATE-TIME:20220211T185428Z
LOCATION:A832\, New Music Building\, 527 Sherbrooke St. West.
URL:https://www.cirmmt.org/fr/events/workshops/meetings/symbolic-music-pro
 cessing
END:VEVENT
BEGIN:VTIMEZONE
TZID:America/Montreal
X-LIC-LOCATION:America/Montreal
BEGIN:STANDARD
DTSTART;VALUE=DATE-TIME:20131103T010000
TZNAME:EST
TZOFFSETFROM:-0400
TZOFFSETTO:-0500
END:STANDARD
END:VTIMEZONE
END:VCALENDAR
