BEGIN:VCALENDAR
VERSION:2.0
PRODID:-//Plone.org//NONSGML plone.app.event//EN
X-WR-TIMEZONE:America/Toronto
BEGIN:VEVENT
SUMMARY:Workshop Taxonomies for Digital Musical Instruments and Interfaces
  
DTSTART;TZID=America/Montreal;VALUE=DATE-TIME:20091023T190000
DTEND;TZID=America/Montreal;VALUE=DATE-TIME:20091023T210000
DTSTAMP;VALUE=DATE-TIME:20260422T020451Z
UID:196807d34e3b42fab00f895e0c23a227@project_zeoclients
CREATED;VALUE=DATE-TIME:20220210T175937Z
DESCRIPTION:This workshop is organized by CIRMMT Research Axis 2 (musical 
 gestures\, devices and motion capture).  It will take place on October 23r
 d\, 2009 at McGill University (C-209\, Strathcona Music Building\, 555Sher
 brooke St. West).  Registration is free.
LAST-MODIFIED;VALUE=DATE-TIME:20220211T185431Z
LOCATION:Clara Lichtenstein Recital Hall (C-209)\, Schulich School of Musi
 c\, McGill University\, 555 Sherbrooke St. West\, Montreal QC
URL:https://www.cirmmt.org/fr/events/workshops/meetings/taxonomies
END:VEVENT
BEGIN:VTIMEZONE
TZID:America/Montreal
X-LIC-LOCATION:America/Montreal
BEGIN:DAYLIGHT
DTSTART;VALUE=DATE-TIME:20090308T030000
TZNAME:EDT
TZOFFSETFROM:-0500
TZOFFSETTO:-0400
END:DAYLIGHT
END:VTIMEZONE
END:VCALENDAR
