BEGIN:VCALENDAR
VERSION:2.0
PRODID:-//Plone.org//NONSGML plone.app.event//EN
X-WR-TIMEZONE:America/Toronto
BEGIN:VEVENT
SUMMARY:Workshop on timbre
DTSTART;TZID=America/Montreal;VALUE=DATE-TIME:20091209T130000
DTEND;TZID=America/Montreal;VALUE=DATE-TIME:20091209T200000
DTSTAMP;VALUE=DATE-TIME:20260422T015519Z
UID:16c00ac23a944c4d88a02fe46382df0f@project_zeoclients
CREATED;VALUE=DATE-TIME:20220210T175945Z
DESCRIPTION:This workshop is organized by CIRMMT Research Axis 3 (Musical 
 information archiving and retrieval).  It will take place on December 9th\
 , 2009 at 1pm.  This workshop is free and open to all.
LAST-MODIFIED;VALUE=DATE-TIME:20220211T185431Z
LOCATION:A832\, New Music Building\, 527 Sherbrooke St. West (enter via 55
 5 Sherbrooke St. West)
URL:https://www.cirmmt.org/fr/events/workshops/meetings/timbre
END:VEVENT
BEGIN:VTIMEZONE
TZID:America/Montreal
X-LIC-LOCATION:America/Montreal
BEGIN:STANDARD
DTSTART;VALUE=DATE-TIME:20091101T010000
TZNAME:EST
TZOFFSETFROM:-0400
TZOFFSETTO:-0500
END:STANDARD
END:VTIMEZONE
END:VCALENDAR
