BEGIN:VCALENDAR
VERSION:2.0
PRODID:-//Plone.org//NONSGML plone.app.event//EN
X-WR-TIMEZONE:America/Toronto
BEGIN:VEVENT
SUMMARY:Workshop on time-frequency analysis in audio and musical applicati
 ons
DTSTART;TZID=America/Montreal;VALUE=DATE-TIME:20120420T143000
DTEND;TZID=America/Montreal;VALUE=DATE-TIME:20120420T163000
DTSTAMP;VALUE=DATE-TIME:20260421T220417Z
UID:d866151f0ee34e02897c9bcdf073eb25@project_zeoclients
CREATED;VALUE=DATE-TIME:20220210T175924Z
DESCRIPTION:This workshop is organized by CIRMMT Research Axis 1 (Sound mo
 delling\, acoustics and signal processing). It will take place on April 20
 th\, in A832 (New Music Building). This workshop is free and open to all. 
 Registration is required. \n\n\n
LAST-MODIFIED;VALUE=DATE-TIME:20220211T185430Z
LOCATION:A832\, New Music Building\, 527 Sherbrooke St. West.
URL:https://www.cirmmt.org/fr/events/workshops/meetings/time-frequency
END:VEVENT
BEGIN:VTIMEZONE
TZID:America/Montreal
X-LIC-LOCATION:America/Montreal
BEGIN:DAYLIGHT
DTSTART;VALUE=DATE-TIME:20120311T030000
TZNAME:EDT
TZOFFSETFROM:-0500
TZOFFSETTO:-0400
END:DAYLIGHT
END:VTIMEZONE
END:VCALENDAR
