BEGIN:VCALENDAR
VERSION:2.0
PRODID:-//Plone.org//NONSGML plone.app.event//EN
X-WR-TIMEZONE:America/Toronto
BEGIN:VEVENT
SUMMARY:Workshop on immersive systems at Université de Sherbrooke
DTSTART;TZID=America/Montreal;VALUE=DATE-TIME:20120321T090000
DTEND;TZID=America/Montreal;VALUE=DATE-TIME:20120321T190000
DTSTAMP;VALUE=DATE-TIME:20260421T220423Z
UID:39cb0429603a4151b391df553dd3c348@project_zeoclients
CREATED;VALUE=DATE-TIME:20220210T175903Z
DESCRIPTION:This workshop is organized by CIRMMT Research Axis 4 (Multimod
 al immersive systems). It will take place on March 21st\, at the Universit
 é de Sherbrooke. A bus will leave the Schulich School of Music of McGill 
 University for Sherbrooke at 8:00am that morning and will return at around
  6:00pm. This workshop is free and open to all. Registration is required. 
 \n\n\n
LAST-MODIFIED;VALUE=DATE-TIME:20220211T185428Z
LOCATION:Mechanical Engineering Conference Room (C1-4127)\, Engineering Fa
 culty (Pavillon J.-Armand Bombardier)\, Université de Sherbrooke
URL:https://www.cirmmt.org/fr/events/workshops/meetings/uds
END:VEVENT
BEGIN:VTIMEZONE
TZID:America/Montreal
X-LIC-LOCATION:America/Montreal
BEGIN:DAYLIGHT
DTSTART;VALUE=DATE-TIME:20120311T030000
TZNAME:EDT
TZOFFSETFROM:-0500
TZOFFSETTO:-0400
END:DAYLIGHT
END:VTIMEZONE
END:VCALENDAR
