BEGIN:VCALENDAR
VERSION:2.0
PRODID:-//Plone.org//NONSGML plone.app.event//EN
X-WR-TIMEZONE:America/Toronto
BEGIN:VEVENT
SUMMARY:Workshop on verbal data analysis
DTSTART;TZID=America/Montreal;VALUE=DATE-TIME:20120606T100000
DTEND;TZID=America/Montreal;VALUE=DATE-TIME:20120606T190000
DTSTAMP;VALUE=DATE-TIME:20260421T220419Z
UID:f17d5ad396e34db292f9c2c154b5c1cf@project_zeoclients
CREATED;VALUE=DATE-TIME:20220210T175947Z
DESCRIPTION:This workshop is organized by CIRMMT Research Axis 4 (Multimod
 al immersive systems). It will take place on June 6\, in A832 (New Music B
 uilding). This workshop is free and open to all. Registration is required.
  \n\n\n
LAST-MODIFIED;VALUE=DATE-TIME:20220211T185431Z
LOCATION:A832\, New Music Building\, 527 Sherbrooke St. West.
URL:https://www.cirmmt.org/fr/events/workshops/meetings/verbal-data
END:VEVENT
BEGIN:VTIMEZONE
TZID:America/Montreal
X-LIC-LOCATION:America/Montreal
BEGIN:DAYLIGHT
DTSTART;VALUE=DATE-TIME:20120311T030000
TZNAME:EDT
TZOFFSETFROM:-0500
TZOFFSETTO:-0400
END:DAYLIGHT
END:VTIMEZONE
END:VCALENDAR
