BEGIN:VCALENDAR
VERSION:2.0
PRODID:-//Plone.org//NONSGML plone.app.event//EN
X-WR-TIMEZONE:America/Toronto
BEGIN:VEVENT
SUMMARY:Atelier sur la corporéité et la création musicale (I)
DTSTART;TZID=America/Toronto;VALUE=DATE-TIME:20260203T093000
DTEND;TZID=America/Toronto;VALUE=DATE-TIME:20260203T150000
DTSTAMP;VALUE=DATE-TIME:20260421T083803Z
UID:83540f3ddc49487fad8088614007c4e2@project_zeoclients
CONTACT:info [AROBASE] cirmmt [POINT] org
CREATED;VALUE=DATE-TIME:20251217T174954Z
DESCRIPTION:Un événement organisé en collaboration avec les axes de rec
 herche 3 (Cognition\, perception et mouvement) et 4 (Pratique musicale él
 argie)
LAST-MODIFIED;VALUE=DATE-TIME:20260130T192639Z
LOCATION:B-325\, Faculté de musique\, Université de Montréal\, 200\, av
 enue Vincent-d'Indy
URL:https://www.cirmmt.org/fr/events/workshops/research/03-feb-2026-embodi
 ment-music-creation
END:VEVENT
BEGIN:VTIMEZONE
TZID:America/Toronto
X-LIC-LOCATION:America/Toronto
BEGIN:STANDARD
DTSTART;VALUE=DATE-TIME:20251102T010000
TZNAME:EST
TZOFFSETFROM:-0400
TZOFFSETTO:-0500
END:STANDARD
END:VTIMEZONE
END:VCALENDAR
