BEGIN:VCALENDAR
VERSION:2.0
PRODID:-//Plone.org//NONSGML plone.app.event//EN
X-WR-TIMEZONE:America/Toronto
BEGIN:VEVENT
SUMMARY:Atelier sur la corporéité et la création musicale (II)
DTSTART;TZID=America/Toronto;VALUE=DATE-TIME:20260204T093000
DTEND;TZID=America/Toronto;VALUE=DATE-TIME:20260204T120000
DTSTAMP;VALUE=DATE-TIME:20260421T083830Z
UID:b332ee3431ee41dd84b3cab10de5d640@project_zeoclients
CONTACT:info [AROBASE] cirmmt [POINT] org
CREATED;VALUE=DATE-TIME:20260128T191523Z
DESCRIPTION:Un événement organisé en collaboration avec les axes de rec
 herche 3 (Cognition\, perception et mouvement) et 4 (Pratique musicale él
 argie)
LAST-MODIFIED;VALUE=DATE-TIME:20260130T192902Z
LOCATION:A832 (8 étage)\, Pavillon de musique Elizabeth Schulich\, 527\, 
 Sherbrooke O
URL:https://www.cirmmt.org/fr/events/workshops/research/04-feb-2026-embodi
 ment-music-creation-2
END:VEVENT
BEGIN:VTIMEZONE
TZID:America/Toronto
X-LIC-LOCATION:America/Toronto
BEGIN:STANDARD
DTSTART;VALUE=DATE-TIME:20251102T010000
TZNAME:EST
TZOFFSETFROM:-0400
TZOFFSETTO:-0500
END:STANDARD
END:VTIMEZONE
END:VCALENDAR
