BEGIN:VCALENDAR
VERSION:2.0
PRODID:-//Plone.org//NONSGML plone.app.event//EN
X-WR-TIMEZONE:America/Toronto
BEGIN:VEVENT
SUMMARY:Unrealistic Spaces : démonstration d'enregistrement de musique é
 lectroacoustique en 3D
DTSTART;TZID=America/Toronto;VALUE=DATE-TIME:20251111T170000
DTEND;TZID=America/Toronto;VALUE=DATE-TIME:20251111T183000
DTSTAMP;VALUE=DATE-TIME:20260421T081853Z
UID:afbb137c54cd43c8b1530d9a98743a17@project_zeoclients
CONTACT:info [AROBASE] cirmmt [POINT] org
CREATED;VALUE=DATE-TIME:20250930T162526Z
DESCRIPTION:Atelier présenté par l'axe de recherche 1 (Instruments\, app
 areils et systèmes)
LAST-MODIFIED;VALUE=DATE-TIME:20251002T180245Z
LOCATION:Salle multimédia MMR (-2 étage)\, Pavillon de musique Elizabeth
  Wirth\, 527\, Sherbrooke O
URL:https://www.cirmmt.org/fr/events/workshops/research/11-nov-2025-unreal
 istic-spaces
END:VEVENT
BEGIN:VTIMEZONE
TZID:America/Toronto
X-LIC-LOCATION:America/Toronto
BEGIN:STANDARD
DTSTART;VALUE=DATE-TIME:20251102T010000
TZNAME:EST
TZOFFSETFROM:-0400
TZOFFSETTO:-0500
END:STANDARD
END:VTIMEZONE
END:VCALENDAR
