BEGIN:VCALENDAR
VERSION:2.0
PRODID:-//Plone.org//NONSGML plone.app.event//EN
X-WR-TIMEZONE:America/Toronto
BEGIN:VEVENT
SUMMARY:IAM@CIRMMT#26: Audio spatial pour les médias interactifs
DTSTART;TZID=America/Toronto;VALUE=DATE-TIME:20240912T180000
DTEND;TZID=America/Toronto;VALUE=DATE-TIME:20240912T220000
DTSTAMP;VALUE=DATE-TIME:20260421T111057Z
UID:fa6867701f40496baa894ab13771af1d@project_zeoclients
CONTACT:Montréal Audio Intéractif\, info@interactiveaudiomontreal.com\, 
 https://www.interactiveaudiomontreal.com/fr/evenements/iam-cirmmt-26-table
 -ronde-communaute
CREATED;VALUE=DATE-TIME:20240828T142504Z
DESCRIPTION:IAM@CIRMMT #26 prendra la forme d'une table ronde communautair
 e\, où nous discuterons de l'audio spatial pour les médias interactifs e
 t poserons la question : Comment loin est assez loin ?
LAST-MODIFIED;VALUE=DATE-TIME:20250325T165425Z
LOCATION:A-832\, 8éme étage\, Pavillon de musique Elizabeth Wirth\, 527 
 Sherbrooke O.
URL:https://www.cirmmt.org/fr/events/workshops/research/12-sep-2024
END:VEVENT
BEGIN:VTIMEZONE
TZID:America/Toronto
X-LIC-LOCATION:America/Toronto
BEGIN:DAYLIGHT
DTSTART;VALUE=DATE-TIME:20240310T030000
TZNAME:EDT
TZOFFSETFROM:-0500
TZOFFSETTO:-0400
END:DAYLIGHT
END:VTIMEZONE
END:VCALENDAR
