BEGIN:VCALENDAR
VERSION:2.0
PRODID:-//Plone.org//NONSGML plone.app.event//EN
X-WR-TIMEZONE:America/Toronto
BEGIN:VEVENT
SUMMARY:Impacts sociétaux\, créatifs et associés à la recherche des ap
 proches musicales basées sur les données
DTSTART;TZID=America/Toronto;VALUE=DATE-TIME:20250318T123000
DTEND;TZID=America/Toronto;VALUE=DATE-TIME:20250318T160000
DTSTAMP;VALUE=DATE-TIME:20260421T110943Z
UID:4307b0fbdf4c491ea1c801493661380a@project_zeoclients
CONTACT:info[AROBASE]cirmmt[POINT]org
CREATED;VALUE=DATE-TIME:20250212T212134Z
DESCRIPTION:Un atelier organisé par l'axe de recherche 2 (Recherche d'inf
 ormations musicales) avec l'invitée Emilia Gómez.
LAST-MODIFIED;VALUE=DATE-TIME:20250312T184357Z
LOCATION:A832 (8 étage)\, Pavillon de musique Elizabeth Schulich\, 527\, 
 Sherbrooke O
URL:https://www.cirmmt.org/fr/events/workshops/research/18-mar-2025-data-d
 riven-approaches
END:VEVENT
BEGIN:VTIMEZONE
TZID:America/Toronto
X-LIC-LOCATION:America/Toronto
BEGIN:DAYLIGHT
DTSTART;VALUE=DATE-TIME:20250309T030000
TZNAME:EDT
TZOFFSETFROM:-0500
TZOFFSETTO:-0400
END:DAYLIGHT
END:VTIMEZONE
END:VCALENDAR
