BEGIN:VCALENDAR
VERSION:2.0
PRODID:-//Plone.org//NONSGML plone.app.event//EN
X-WR-TIMEZONE:America/Toronto
BEGIN:VEVENT
SUMMARY:Quand l'art rencontre la recherche : interactivité collective et 
 Virtuose Élite
DTSTART;TZID=America/Toronto;VALUE=DATE-TIME:20260402T130000
DTEND;TZID=America/Toronto;VALUE=DATE-TIME:20260402T170000
DTSTAMP;VALUE=DATE-TIME:20260422T045703Z
UID:6d6ed7d5f31d484dbd4ea01bab80601d@project_zeoclients
CONTACT:info[AROBASE]cirmmt[POINT]org
CREATED;VALUE=DATE-TIME:20260319T191716Z
DESCRIPTION:Un atelier présenté en collaboration avec Lab148\, Accès Sc
 ène Montréal et le CIRMMT
LAST-MODIFIED;VALUE=DATE-TIME:20260401T134122Z
LOCATION:A832 (8 étage)\, Pavillon de musique Elizabeth Schulich\, 527\, 
 Sherbrooke O
URL:https://www.cirmmt.org/fr/events/workshops/research/2-apr-2026-where-a
 rt-meets-research
END:VEVENT
BEGIN:VTIMEZONE
TZID:America/Toronto
X-LIC-LOCATION:America/Toronto
BEGIN:DAYLIGHT
DTSTART;VALUE=DATE-TIME:20260308T030000
TZNAME:EDT
TZOFFSETFROM:-0500
TZOFFSETTO:-0400
END:DAYLIGHT
END:VTIMEZONE
END:VCALENDAR
