BEGIN:VCALENDAR
VERSION:2.0
PRODID:-//Plone.org//NONSGML plone.app.event//EN
X-WR-TIMEZONE:America/Toronto
BEGIN:VEVENT
SUMMARY:Espaces acoustiques réels et virtuels et leurs occupant·es
DTSTART;TZID=America/Toronto;VALUE=DATE-TIME:20260120T123000
DTEND;TZID=America/Toronto;VALUE=DATE-TIME:20260120T170000
DTSTAMP;VALUE=DATE-TIME:20260421T082121Z
UID:bec78dffb9b8460e9a57f84ef3cdf4dc@project_zeoclients
CONTACT:info [AROBASE] cirmmt [POINT] org
CREATED;VALUE=DATE-TIME:20251215T183739Z
DESCRIPTION:Cet atelier est organisé par l'axe de recherche 1 du CIRMMT (
 Instruments\, appareils et systèmes)
LAST-MODIFIED;VALUE=DATE-TIME:20260116T180135Z
LOCATION:A832 (8 étage)\, Pavillon de musique Elizabeth Schulich\, 527\, 
 Sherbrooke O
URL:https://www.cirmmt.org/fr/events/workshops/research/20-jan-2025-real-v
 irtual-acoustic-spaces
END:VEVENT
BEGIN:VTIMEZONE
TZID:America/Toronto
X-LIC-LOCATION:America/Toronto
BEGIN:STANDARD
DTSTART;VALUE=DATE-TIME:20251102T010000
TZNAME:EST
TZOFFSETFROM:-0400
TZOFFSETTO:-0500
END:STANDARD
END:VTIMEZONE
END:VCALENDAR
