BEGIN:VCALENDAR
VERSION:2.0
PRODID:-//Plone.org//NONSGML plone.app.event//EN
X-WR-TIMEZONE:America/Toronto
BEGIN:VEVENT
SUMMARY:Atelier d'outils de connexion Max for Live
DTSTART;TZID=America/Toronto;VALUE=DATE-TIME:20251020T130000
DTEND;TZID=America/Toronto;VALUE=DATE-TIME:20251020T160000
DTSTAMP;VALUE=DATE-TIME:20260421T081641Z
UID:00cf5264a78745e2b53c1ba369e17883@project_zeoclients
CONTACT:info [AROBASE] cirmmt [POINT] org
CREATED;VALUE=DATE-TIME:20250926T194410Z
LAST-MODIFIED;VALUE=DATE-TIME:20251009T171139Z
LOCATION:Salle multimédia MMR (-2 étage)\, Pavillon de musique Elizabeth
  Wirth\, 527\, Sherbrooke O
URL:https://www.cirmmt.org/fr/events/workshops/research/20-oct-2025-max-fo
 r-live-tools
END:VEVENT
BEGIN:VTIMEZONE
TZID:America/Toronto
X-LIC-LOCATION:America/Toronto
BEGIN:DAYLIGHT
DTSTART;VALUE=DATE-TIME:20250309T030000
TZNAME:EDT
TZOFFSETFROM:-0500
TZOFFSETTO:-0400
END:DAYLIGHT
END:VTIMEZONE
END:VCALENDAR
