BEGIN:VCALENDAR
VERSION:2.0
PRODID:-//Plone.org//NONSGML plone.app.event//EN
X-WR-TIMEZONE:America/Toronto
BEGIN:VEVENT
SUMMARY:Emmanuel Fléty (IRCAM) :  Évolution de la technologie des instru
 ments augmentés à l'IRCAM et application à la conception des Hyper-flû
 tes 2.0 de Cléo Palacio-Quintin
DTSTART;TZID=America/Toronto;VALUE=DATE-TIME:20250924T090000
DTEND;TZID=America/Toronto;VALUE=DATE-TIME:20250924T110000
DTSTAMP;VALUE=DATE-TIME:20260421T094159Z
UID:fea7c3cec7874149bbcf8f4c5275ca27@project_zeoclients
CONTACT:info [AROBASE] cirmmt [POINT] org
CREATED;VALUE=DATE-TIME:20250911T175803Z
LAST-MODIFIED;VALUE=DATE-TIME:20250919T193400Z
LOCATION:A832 (8 étage)\, Pavillon de musique Elizabeth Schulich\, 527\, 
 Sherbrooke O
URL:https://www.cirmmt.org/fr/events/workshops/research/24-sep-2025-evolut
 ion-of-augmented-instruments
END:VEVENT
BEGIN:VTIMEZONE
TZID:America/Toronto
X-LIC-LOCATION:America/Toronto
BEGIN:DAYLIGHT
DTSTART;VALUE=DATE-TIME:20250309T030000
TZNAME:EDT
TZOFFSETFROM:-0500
TZOFFSETTO:-0400
END:DAYLIGHT
END:VTIMEZONE
END:VCALENDAR
