BEGIN:VCALENDAR
VERSION:2.0
PRODID:-//Plone.org//NONSGML plone.app.event//EN
X-WR-TIMEZONE:America/Toronto
BEGIN:VEVENT
SUMMARY:Interventions sonores dans l'espace public — Atelier sur la conc
 eption de paysages sonores et l'art sonore situé
DTSTART;TZID=America/Toronto;VALUE=DATE-TIME:20251203T093000
DTEND;TZID=America/Toronto;VALUE=DATE-TIME:20251204T160000
DTSTAMP;VALUE=DATE-TIME:20260421T081845Z
UID:f33703aad0184aa08f5fe510b02ce472@project_zeoclients
CONTACT:info [AROBASE] cirmmt [POINT] org
CREATED;VALUE=DATE-TIME:20251029T193254Z
DESCRIPTION:Cet atelier est co-présenté par les axes de recherche 2 (Rec
 herche en information musicale) et RA4 (Pratique musicale élargie) du CIR
 MMT.
LAST-MODIFIED;VALUE=DATE-TIME:20251201T235800Z
LOCATION:Salle multimédia MMR (-2 étage)\, Pavillon de musique Elizabeth
  Wirth\, 527\, Sherbrooke O
URL:https://www.cirmmt.org/fr/events/workshops/research/3-4-dec-2025-situa
 ted-sound-art
END:VEVENT
BEGIN:VTIMEZONE
TZID:America/Toronto
X-LIC-LOCATION:America/Toronto
BEGIN:STANDARD
DTSTART;VALUE=DATE-TIME:20251102T010000
TZNAME:EST
TZOFFSETFROM:-0400
TZOFFSETTO:-0500
END:STANDARD
END:VTIMEZONE
END:VCALENDAR
