BEGIN:VCALENDAR
VERSION:2.0
PRODID:-//Plone.org//NONSGML plone.app.event//EN
X-WR-TIMEZONE:America/Toronto
BEGIN:VEVENT
SUMMARY:Ryoko Akama – Amplifié et/ou non amplifié : provoquer un espac
 e comme instrument
DTSTART;TZID=America/Toronto;VALUE=DATE-TIME:20250930T100000
DTEND;TZID=America/Toronto;VALUE=DATE-TIME:20250930T130000
DTSTAMP;VALUE=DATE-TIME:20260421T094441Z
UID:cb7d3894a12d41c09bf872b3f16cd237@project_zeoclients
CONTACT:info [AROBASE] cirmmt [POINT] org
CREATED;VALUE=DATE-TIME:20250908T174626Z
DESCRIPTION:Un atelier présenté par l'axe de recherche 4 (Pratique music
 ale élargie) avec l'artiste sonore et compositrice Ryoko Akama.
LAST-MODIFIED;VALUE=DATE-TIME:20250925T181236Z
LOCATION:Espace LFO (B-325)\, Faculté de musique\, Université de Montré
 al\,  200\, avenue Vincent-d’Indy
URL:https://www.cirmmt.org/fr/events/workshops/research/30-sep-2025-ryoko-
 akama
END:VEVENT
BEGIN:VTIMEZONE
TZID:America/Toronto
X-LIC-LOCATION:America/Toronto
BEGIN:DAYLIGHT
DTSTART;VALUE=DATE-TIME:20250309T030000
TZNAME:EDT
TZOFFSETFROM:-0500
TZOFFSETTO:-0400
END:DAYLIGHT
END:VTIMEZONE
END:VCALENDAR
