BEGIN:VCALENDAR
VERSION:2.0
PRODID:-//Plone.org//NONSGML plone.app.event//EN
X-WR-TIMEZONE:America/Toronto
BEGIN:VEVENT
SUMMARY:Perspectives des musicien·nes sur le rôle de la technologie dans
  la création\, l'interprétation et l'enregistrement
DTSTART;TZID=America/Toronto;VALUE=DATE-TIME:20250404T130000
DTEND;TZID=America/Toronto;VALUE=DATE-TIME:20250404T163000
DTSTAMP;VALUE=DATE-TIME:20260421T094543Z
UID:2651054e2e6c41d7a28400062e52976a@project_zeoclients
CONTACT:info[AROBASE]cirmmt[POINT]org
CREATED;VALUE=DATE-TIME:20250312T162825Z
DESCRIPTION:Un atelier organisé par l'axe de recherche 1 (Instruments\, a
 ppareils et systèmes) et l'axe de recherche 4 (Pratique musicale élargie
 ) avec les invité·es Dafna Naphtali\,  Dr. Althea SullyCole et Hans Tamm
 en.
LAST-MODIFIED;VALUE=DATE-TIME:20250402T151216Z
LOCATION:A832 (8 étage)\, Pavillon de musique Elizabeth Wirth\, 527\, She
 rbrooke O
URL:https://www.cirmmt.org/fr/events/workshops/research/4-apr-2025-musicia
 n-led-perspectives
END:VEVENT
BEGIN:VTIMEZONE
TZID:America/Toronto
X-LIC-LOCATION:America/Toronto
BEGIN:DAYLIGHT
DTSTART;VALUE=DATE-TIME:20250309T030000
TZNAME:EDT
TZOFFSETFROM:-0500
TZOFFSETTO:-0400
END:DAYLIGHT
END:VTIMEZONE
END:VCALENDAR
