BEGIN:VCALENDAR
VERSION:2.0
PRODID:-//Plone.org//NONSGML plone.app.event//EN
X-WR-TIMEZONE:America/Toronto
BEGIN:VEVENT
SUMMARY:Jeff Snyder : Les mobiles en tant qu'instruments électroniques et
  les concepts alternatifs de notation animée
DTSTART;TZID=America/Toronto;VALUE=DATE-TIME:20250204T090000
DTEND;TZID=America/Toronto;VALUE=DATE-TIME:20250204T120000
DTSTAMP;VALUE=DATE-TIME:20260421T111205Z
UID:5788a4061f234e22a537a2f2937a53e9@project_zeoclients
CONTACT:info[AROBAS]cirmmt[POINT]org
CREATED;VALUE=DATE-TIME:20240926T160048Z
DESCRIPTION:Un atelier organisé par l'Axe de Recherche 1 et l'Axe de Rech
 erche 4.
LAST-MODIFIED;VALUE=DATE-TIME:20250129T174410Z
LOCATION:A832 (8 étage)\, Pavillon de musique Elizabeth Wirth\, 527\, She
 rbrooke O
URL:https://www.cirmmt.org/fr/events/workshops/research/4-feb-2025
END:VEVENT
BEGIN:VTIMEZONE
TZID:America/Toronto
X-LIC-LOCATION:America/Toronto
BEGIN:STANDARD
DTSTART;VALUE=DATE-TIME:20241103T010000
TZNAME:EST
TZOFFSETFROM:-0400
TZOFFSETTO:-0500
END:STANDARD
END:VTIMEZONE
END:VCALENDAR
