BEGIN:VCALENDAR
VERSION:2.0
PRODID:-//Plone.org//NONSGML plone.app.event//EN
X-WR-TIMEZONE:America/Toronto
BEGIN:VEVENT
SUMMARY:La pratique prévient l'obsolescence : soutenir les DMI sur le lon
 g terme
DTSTART;TZID=America/Toronto;VALUE=DATE-TIME:20251105T090000
DTEND;TZID=America/Toronto;VALUE=DATE-TIME:20251105T120000
DTSTAMP;VALUE=DATE-TIME:20260421T082202Z
UID:687e9246ac2045ebadb92342009b5d09@project_zeoclients
CONTACT:info [AROBASE] cirmmt [POINT] org
CREATED;VALUE=DATE-TIME:20251014T191708Z
DESCRIPTION:Cet atelier est présenté par Axis 4 (Pratique musicale élar
 gie) avec Mari Kimura en invitée
LAST-MODIFIED;VALUE=DATE-TIME:20251105T132405Z
LOCATION:C-204 (2 étage)\, Pavillon Strathcona\, 555 Sherbrooke O
URL:https://www.cirmmt.org/fr/events/workshops/research/5-nov-2025-dmis-fo
 r-the-long-haul
END:VEVENT
BEGIN:VTIMEZONE
TZID:America/Toronto
X-LIC-LOCATION:America/Toronto
BEGIN:STANDARD
DTSTART;VALUE=DATE-TIME:20251102T010000
TZNAME:EST
TZOFFSETFROM:-0400
TZOFFSETTO:-0500
END:STANDARD
END:VTIMEZONE
END:VCALENDAR
