BEGIN:VCALENDAR
VERSION:2.0
PRODID:-//Plone.org//NONSGML plone.app.event//EN
X-WR-TIMEZONE:America/Toronto
BEGIN:VEVENT
SUMMARY:Workshop on SIMSSA (Single Interface for Music Score Searching and
  Analysis) VIII
DTSTART;TZID=America/Montreal;VALUE=DATE-TIME:20160521T093000
DTEND;TZID=America/Montreal;VALUE=DATE-TIME:20160521T140000
DTSTAMP;VALUE=DATE-TIME:20260421T175843Z
UID:89e0808f7f884baab69d490a3728b3f1@project_zeoclients
CREATED;VALUE=DATE-TIME:20210321T220105Z
DESCRIPTION:Workshop presented by the CIRMMT RA2 - Music Information Resea
 rch.
LAST-MODIFIED;VALUE=DATE-TIME:20210420T151231Z
LOCATION:A832\, Elizabeth Wirth Music Building\, 527 Sherbrooke St. West.
URL:https://www.cirmmt.org/fr/events/workshops/research/SIMSSAVIII/simssa8
END:VEVENT
BEGIN:VTIMEZONE
TZID:America/Montreal
X-LIC-LOCATION:America/Montreal
BEGIN:DAYLIGHT
DTSTART;VALUE=DATE-TIME:20160313T030000
TZNAME:EDT
TZOFFSETFROM:-0500
TZOFFSETTO:-0400
END:DAYLIGHT
END:VTIMEZONE
END:VCALENDAR
